Workbook

Sheet Data 
A1: Status | B1: Emp. Code | C1: Employee Name (Arabic) | D1: Job title In (Arabic) | E1: Section | F1: Department | G1: الراحه الاسبوعيه 1= راحه جمعه وسبت 2= راحه الجمعه فقط | H1: Hiring Date | I1: Work Period | J1: SI Status | K1: SI No. | L1: SI Effective Date | M1: SI wage | N1: SI office | O1: Health Book | P1: ID No. | Q1: ID issuing date | R1: ID Exp. Date | S1: Date Of Birth | T1: Age | U1: Gender | V1: Marital Status | W1: Religion | X1: ID Address | Y1: Qualifications | Z1: Original Graduation CRT. | AA1: Original Military CRT. | AB1: Original DOB CRT. | AC1: Original of finger print record | AD1: Original of work permit. | AE1: Copy of Form 1 (SI) | AF1: Copy of Form 6 (SI) | AG1: Copy Of Driving License | AH1: Copy of ID | AI1: 6 Personal photo | AJ1: contract | AK1: Comments | AL1: Resignation Date | AM1: Reason | AN1: رصيد اجازات 2021 | AO1: المتبقى | AQ1: On-Board | AR1: Court Cases | AS1: Resigned | AT1: Dead | AU1: Transfered | AV1: Corporate | AW1: 5% In-Active | AX1: Wating to resign
A2: On-Board | B2: 1000 | C2: xxxx | D2: yyy | E2: zzz | F2: المبيعات | G2: 2 | H2: 33329 | I2: =(TODAY()-H2)/365 -> 29.772603 | S2: 25163 | T2: =(TODAY()-S2)/365 -> 52.145205 | AN2: =IF(I2>=0.6,IF(T2>=50,30,IF(I2>=10,30,21)),"لا يستحق سنوى") -> 30 | AO2: =IFERROR(VLOOKUP(B2,الاجازات!$B:$Q,16,0),AN2) -> 28
A3: On-Board | B3: 1001 | F3: الأنتاج | G3: 1 | H3: 33970 | I3: =(TODAY()-H3)/365 -> 28.016438 | S3: 25674 | T3: =(TODAY()-S3)/365 -> 50.745205 | AN3: =IF(I3>=0.6,IF(T3>=50,30,IF(I3>=10,30,21)),"لا يستحق سنوى") -> 30 | AO3: =IFERROR(VLOOKUP(B3,الاجازات!$B:$Q,16,0),AN3) -> 30
A4: On-Board | B4: 1002 | F4: المالية | G4: 2 | H4: 40969 | I4: =(TODAY()-H4)/365 -> 8.8410959 | S4: 35234 | T4: =(TODAY()-S4)/365 -> 24.553425 | AN4: =IF(I4>=0.6,IF(T4>=50,30,IF(I4>=10,30,21)),"لا يستحق سنوى") -> 21 | AO4: =IFERROR(VLOOKUP(B4,الاجازات!$B:$Q,16,0),AN4) -> 21
A5: On-Board | B5: 1004 | F5: المبيعات | G5: 2 | H5: 43148 | I5: =(TODAY()-H5)/365 -> 2.8712329 | S5: 34095 | T5: =(TODAY()-S5)/365 -> 27.673973 | AN5: =IF(I5>=0.6,IF(T5>=50,30,IF(I5>=10,30,21)),"لا يستحق سنوى") -> 21 | AO5: =IFERROR(VLOOKUP(B5,الاجازات!$B:$Q,16,0),AN5) -> 21
A6: On-Board | B6: 1011 | F6: المخازن | G6: 2 | H6: 43191 | I6: =(TODAY()-H6)/365 -> 2.7534247 | S6: 32627 | T6: =(TODAY()-S6)/365 -> 31.69589 | AN6: =IF(I6>=0.6,IF(T6>=50,30,IF(I6>=10,30,21)),"لا يستحق سنوى") -> 21 | AO6: =IFERROR(VLOOKUP(B6,الاجازات!$B:$Q,16,0),AN6) -> 21
A7: On-Board | B7: 1012 | F7: المخازن | G7: 2 | H7: 41486 | I7: =(TODAY()-H7)/365 -> 7.4246575 | S7: 32737 | T7: =(TODAY()-S7)/365 -> 31.394521 | AN7: =IF(I7>=0.6,IF(T7>=50,30,IF(I7>=10,30,21)),"لا يستحق سنوى") -> 21 | AO7: =IFERROR(VLOOKUP(B7,الاجازات!$B:$Q,16,0),AN7) -> 21
A8: On-Board | B8: 1013 | F8: الأنتاج | G8: 2 | H8: 41456 | I8: =(TODAY()-H8)/365 -> 7.5068493 | S8: 36047 | T8: =(TODAY()-S8)/365 -> 22.326027 | AN8: =IF(I8>=0.6,IF(T8>=50,30,IF(I8>=10,30,21)),"لا يستحق سنوى") -> 21 | AO8: =IFERROR(VLOOKUP(B8,الاجازات!$B:$Q,16,0),AN8) -> 21
A9: On-Board | B9: 1015 | F9: الأنتاج | G9: 2 | H9: 33696 | I9: =(TODAY()-H9)/365 -> 28.767123 | S9: 28454 | T9: =(TODAY()-S9)/365 -> 43.128767 | AN9: =IF(I9>=0.6,IF(T9>=50,30,IF(I9>=10,30,21)),"لا يستحق سنوى") -> 30 | AO9: =IFERROR(VLOOKUP(B9,الاجازات!$B:$Q,16,0),AN9) -> 30
A10: On-Board | B10: 1017 | F10: الأنتاج | G10: 2 | H10: 39775 | I10: =(TODAY()-H10)/365 -> 12.112329 | S10: 33147 | T10: =(TODAY()-S10)/365 -> 30.271233 | AN10: =IF(I10>=0.6,IF(T10>=50,30,IF(I10>=10,30,21)),"لا يستحق سنوى") -> 30 | AO10: =IFERROR(VLOOKUP(B10,الاجازات!$B:$Q,16,0),AN10) -> 30
A11: On-Board | B11: 1020 | F11: الأنتاج | G11: 2 | H11: 42830 | I11: =(TODAY()-H11)/365 -> 3.7424658 | S11: 30882 | T11: =(TODAY()-S11)/365 -> 36.476712 | AN11: =IF(I11>=0.6,IF(T11>=50,30,IF(I11>=10,30,21)),"لا يستحق سنوى") -> 21 | AO11: =IFERROR(VLOOKUP(B11,الاجازات!$B:$Q,16,0),AN11) -> 19
A12: On-Board | B12: 1021 | F12: الأنتاج | G12: 2 | H12: 43055 | I12: =(TODAY()-H12)/365 -> 3.1260274 | S12: 36023 | T12: =(TODAY()-S12)/365 -> 22.391781 | AN12: =IF(I12>=0.6,IF(T12>=50,30,IF(I12>=10,30,21)),"لا يستحق سنوى") -> 21 | AO12: =IFERROR(VLOOKUP(B12,الاجازات!$B:$Q,16,0),AN12) -> 21
A13: On-Board | B13: 1024 | F13: الأنتاج | G13: 2 | H13: 41183 | I13: =(TODAY()-H13)/365 -> 8.2547945 | S13: 35222 | T13: =(TODAY()-S13)/365 -> 24.586301 | AN13: =IF(I13>=0.6,IF(T13>=50,30,IF(I13>=10,30,21)),"لا يستحق سنوى") -> 21 | AO13: =IFERROR(VLOOKUP(B13,الاجازات!$B:$Q,16,0),AN13) -> 21
A14: On-Board | B14: 1025 | F14: تصميم | G14: 2 | H14: 40148 | I14: =(TODAY()-H14)/365 -> 11.090411 | S14: 29587 | T14: =(TODAY()-S14)/365 -> 40.024658 | AN14: =IF(I14>=0.6,IF(T14>=50,30,IF(I14>=10,30,21)),"لا يستحق سنوى") -> 30 | AO14: =IFERROR(VLOOKUP(B14,الاجازات!$B:$Q,16,0),AN14) -> 30
... A18: On-Board | B18: 1031 | F18: القطاع الهندسى | G18: 2 | H18: 33878 | I18: =(TODAY()-H18)/365 -> 28.268493 | S18: 25821 | T18: =(TODAY()-S18)/365 -> 50.342466 | AN18: =IF(I18>=0.6,IF(T18>=50,30,IF(I18>=10,30,21)),"لا يستحق سنوى") -> 30 | AO18: =IFERROR(VLOOKUP(B18,الاجازات!$B:$Q,16,0),AN18) -> 30
A19: On-Board | B19: 1032 | F19: القطاع الهندسى | H19: 40878 | I19: =(TODAY()-H19)/365 -> 9.090411 | S19: 18477 | T19: =(TODAY()-S19)/365 -> 70.463014 | AO19: =IFERROR(VLOOKUP(B19,الاجازات!$B:$Q,16,0),AN19) -> 0
A20: On-Board | B20: 1034 | F20: القطاع الهندسى | G20: 2 | H20: 40238 | I20: =(TODAY()-H20)/365 -> 10.843836 | S20: 20540 | T20: =(TODAY()-S20)/365 -> 64.810959 | AN20: =IF(I20>=0.6,IF(T20>=50,30,IF(I20>=10,30,21)),"لا يستحق سنوى") -> 30 | AO20: =IFERROR(VLOOKUP(B20,الاجازات!$B:$Q,16,0),AN20) -> 30
A21: On-Board | B21: 1035 | F21: القطاع الهندسى | G21: 2 | H21: 32690 | I21: =(TODAY()-H21)/365 -> 31.523288 | S21: 23621 | T21: =(TODAY()-S21)/365 -> 56.369863 | AN21: =IF(I21>=0.6,IF(T21>=50,30,IF(I21>=10,30,21)),"لا يستحق سنوى") -> 30 | AO21: =IFERROR(VLOOKUP(B21,الاجازات!$B:$Q,16,0),AN21) -> 30
A22: On-Board | B22: 1036 | F22: القطاع الهندسى | G22: 2 | H22: 33604 | I22: =(TODAY()-H22)/365 -> 29.019178 | S22: 24431 | T22: =(TODAY()-S22)/365 -> 54.150685 | AN22: =IF(I22>=0.6,IF(T22>=50,30,IF(I22>=10,30,21)),"لا يستحق سنوى") -> 30 | AO22: =IFERROR(VLOOKUP(B22,الاجازات!$B:$Q,16,0),AN22) -> 30
A23: On-Board | B23: 1037 | F23: القطاع الهندسى | G23: 2 | H23: 34578 | I23: =(TODAY()-H23)/365 -> 26.350685 | S23: 26259 | T23: =(TODAY()-S23)/365 -> 49.142466 | AN23: =IF(I23>=0.6,IF(T23>=50,30,IF(I23>=10,30,21)),"لا يستحق سنوى") -> 30 | AO23: =IFERROR(VLOOKUP(B23,الاجازات!$B:$Q,16,0),AN23) -> 30
A24: On-Board | B24: 1038 | F24: القطاع الهندسى | G24: 2 | H24: 34943 | I24: =(TODAY()-H24)/365 -> 25.350685 | S24: 27214 | T24: =(TODAY()-S24)/365 -> 46.526027 | AN24: =IF(I24>=0.6,IF(T24>=50,30,IF(I24>=10,30,21)),"لا يستحق سنوى") -> 30 | AO24: =IFERROR(VLOOKUP(B24,الاجازات!$B:$Q,16,0),AN24) -> 30
A25: On-Board | B25: 1039 | F25: التجهيز | G25: 1 | H25: 38869 | I25: =(TODAY()-H25)/365 -> 14.594521 | S25: 33473 | T25: =(TODAY()-S25)/365 -> 29.378082 | AN25: =IF(I25>=0.6,IF(T25>=50,30,IF(I25>=10,30,21)),"لا يستحق سنوى") -> 30 | AO25: =IFERROR(VLOOKUP(B25,الاجازات!$B:$Q,16,0),AN25) -> 30
A26: On-Board | B26: 1041 | F26: القطاع الهندسى | G26: 2 | H26: 39783 | I26: =(TODAY()-H26)/365 -> 12.090411 | S26: 33537 | T26: =(TODAY()-S26)/365 -> 29.20274 | AN26: =IF(I26>=0.6,IF(T26>=50,30,IF(I26>=10,30,21)),"لا يستحق سنوى") -> 30 | AO26: =IFERROR(VLOOKUP(B26,الاجازات!$B:$Q,16,0),AN26) -> 30
A27: On-Board | B27: 1042 | F27: القطاع الهندسى | G27: 2 | H27: 38626 | I27: =(TODAY()-H27)/365 -> 15.260274 | S27: 18389 | T27: =(TODAY()-S27)/365 -> 70.70411 | AN27: =IF(I27>=0.6,IF(T27>=50,30,IF(I27>=10,30,21)),"لا يستحق سنوى") -> 30 | AO27: =IFERROR(VLOOKUP(B27,الاجازات!$B:$Q,16,0),AN27) -> 30
A28: On-Board | B28: 1044 | F28: القطاع الهندسى | G28: 2 | H28: 43216 | I28: =(TODAY()-H28)/365 -> 2.6849315 | S28: 34899 | T28: =(TODAY()-S28)/365 -> 25.471233 | AN28: =IF(I28>=0.6,IF(T28>=50,30,IF(I28>=10,30,21)),"لا يستحق سنوى") -> 21 | AO28: =IFERROR(VLOOKUP(B28,الاجازات!$B:$Q,16,0),AN28) -> 21
A29: On-Board | B29: 1046 | F29: الشئون الادارية | G29: 2 | H29: 40148 | I29: =(TODAY()-H29)/365 -> 11.090411 | S29: 33590 | T29: =(TODAY()-S29)/365 -> 29.057534 | AN29: =IF(I29>=0.6,IF(T29>=50,30,IF(I29>=10,30,21)),"لا يستحق سنوى") -> 30 | AO29: =IFERROR(VLOOKUP(B29,الاجازات!$B:$Q,16,0),AN29) -> 30
A30: On-Board | B30: 1047 | F30: القطاع الهندسى | G30: 2 | H30: 40940 | I30: =(TODAY()-H30)/365 -> 8.9205479 | S30: 22325 | T30: =(TODAY()-S30)/365 -> 59.920548 | AN30: =IF(I30>=0.6,IF(T30>=50,30,IF(I30>=10,30,21)),"لا يستحق سنوى") -> 30 | AO30: =IFERROR(VLOOKUP(B30,الاجازات!$B:$Q,16,0),AN30) -> 30
A31: On-Board | B31: 1050 | F31: الشئون الادارية | G31: 2 | H31: 40580 | I31: =(TODAY()-H31)/365 -> 9.9068493 | S31: 30275 | T31: =(TODAY()-S31)/365 -> 38.139726 | AN31: =IF(I31>=0.6,IF(T31>=50,30,IF(I31>=10,30,21)),"لا يستحق سنوى") -> 21 | AO31: =IFERROR(VLOOKUP(B31,الاجازات!$B:$Q,16,0),AN31) -> 21
... A47: On-Board | B47: 1076 | F47: الأنتاج | G47: 1 | H47: 40210 | I47: =(TODAY()-H47)/365 -> 10.920548 | S47: 31893 | T47: =(TODAY()-S47)/365 -> 33.706849 | AN47: =IF(I47>=0.6,IF(T47>=50,30,IF(I47>=10,30,21)),"لا يستحق سنوى") -> 30 | AO47: =IFERROR(VLOOKUP(B47,الاجازات!$B:$Q,16,0),AN47) -> 30
A48: On-Board | B48: 1078 | F48: 0.05 | H48: 37834 | I48: =(TODAY()-H48)/365 -> 17.430137 | S48: 29712 | T48: =(TODAY()-S48)/365 -> 39.682192 | AN48: =IF(T48>=50,30,IF(I48>=10,30,21)) -> 30 | AO48: =IFERROR(VLOOKUP(B48,الاجازات!$B:$Q,16,0),AN48) -> 30
A49: On-Board | B49: 1080 | F49: 0.05 | H49: 42522 | I49: =(TODAY()-H49)/365 -> 4.5863014 | T49: =(TODAY()-S49)/365 -> 121.08493 | AN49: =IF(T49>=50,30,IF(I49>=10,30,21)) -> 30 | AO49: =IFERROR(VLOOKUP(B49,الاجازات!$B:$Q,16,0),AN49) -> 30
A50: On-Board | B50: 1082 | F50: القطاع الهندسى | G50: 2 | H50: 35977 | I50: =(TODAY()-H50)/365 -> 22.517808 | S50: 27512 | T50: =(TODAY()-S50)/365 -> 45.709589 | AN50: =IF(I50>=0.6,IF(T50>=50,30,IF(I50>=10,30,21)),"لا يستحق سنوى") -> 30 | AO50: =IFERROR(VLOOKUP(B50,الاجازات!$B:$Q,16,0),AN50) -> 30
A51: On-Board | B51: 1083 | F51: الأنتاج | H51: 43040 | I51: =(TODAY()-H51)/365 -> 3.1671233 | S51: 27041 | T51: =(TODAY()-S51)/365 -> 47 | AO51: =IFERROR(VLOOKUP(B51,الاجازات!$B:$Q,16,0),AN51) -> 0
A52: On-Board | B52: 1084 | F52: الأنتاج | G52: 1 | H52: 41456 | I52: =(TODAY()-H52)/365 -> 7.5068493 | S52: 27792 | T52: =(TODAY()-S52)/365 -> 44.942466 | AN52: =IF(I52>=0.6,IF(T52>=50,30,IF(I52>=10,30,21)),"لا يستحق سنوى") -> 21 | AO52: =IFERROR(VLOOKUP(B52,الاجازات!$B:$Q,16,0),AN52) -> 21
A53: On-Board | B53: 1085 | F53: 0.05 | H53: 41730 | I53: =(TODAY()-H53)/365 -> 6.7561644 | T53: =(TODAY()-S53)/365 -> 121.08493 | AN53: =IF(I53>=0.6,IF(T53>=50,30,IF(I53>=10,30,21)),"لا يستحق سنوى") -> 30 | AO53: =IFERROR(VLOOKUP(B53,الاجازات!$B:$Q,16,0),AN53) -> 30
A54: On-Board | B54: 1086 | F54: المخازن | G54: 2 | H54: 42917 | I54: =(TODAY()-H54)/365 -> 3.5041096 | S54: 36465 | T54: =(TODAY()-S54)/365 -> 21.180822 | AN54: =IF(I54>=0.6,IF(T54>=50,30,IF(I54>=10,30,21)),"لا يستحق سنوى") -> 21 | AO54: =IFERROR(VLOOKUP(B54,الاجازات!$B:$Q,16,0),AN54) -> 21
A55: On-Board | B55: 1087 | F55: الأنتاج | G55: 2 | H55: 38412 | I55: =(TODAY()-H55)/365 -> 15.846575 | S55: 27041 | T55: =(TODAY()-S55)/365 -> 47 | AN55: =IF(I55>=0.6,IF(T55>=50,30,IF(I55>=10,30,21)),"لا يستحق سنوى") -> 30 | AO55: =IFERROR(VLOOKUP(B55,الاجازات!$B:$Q,16,0),AN55) -> 30
A56: On-Board | B56: 1089 | F56: الأنتاج | G56: 2 | H56: 42095 | I56: =(TODAY()-H56)/365 -> 5.7561644 | S56: 29118 | T56: =(TODAY()-S56)/365 -> 41.309589 | AN56: =IF(I56>=0.6,IF(T56>=50,30,IF(I56>=10,30,21)),"لا يستحق سنوى") -> 21 | AO56: =IFERROR(VLOOKUP(B56,الاجازات!$B:$Q,16,0),AN56) -> 21
A57: On-Board | B57: 1092 | F57: المخازن | G57: 2 | H57: 33726 | I57: =(TODAY()-H57)/365 -> 28.684932 | S57: 23787 | T57: =(TODAY()-S57)/365 -> 55.915068 | AN57: =IF(I57>=0.6,IF(T57>=50,30,IF(I57>=10,30,21)),"لا يستحق سنوى") -> 30 | AO57: =IFERROR(VLOOKUP(B57,الاجازات!$B:$Q,16,0),AN57) -> 30
A58: On-Board | B58: 1093 | F58: الأنتاج | G58: 2 | H58: 40787 | I58: =(TODAY()-H58)/365 -> 9.339726 | S58: 24269 | T58: =(TODAY()-S58)/365 -> 54.594521 | AN58: =IF(I58>=0.6,IF(T58>=50,30,IF(I58>=10,30,21)),"لا يستحق سنوى") -> 30 | AO58: =IFERROR(VLOOKUP(B58,الاجازات!$B:$Q,16,0),AN58) -> 30
...

Sheet الاجازات
A1: م | B1: الكود | C1: الاسم | D1: الوظيفه | E1: القسم | F1: الاداره | G1: تاريخ التعيين | H1: تاريخ الميلاد | I1: الراحه الاسبوعيه | J1: نوع الاجازه | K1: تاريخ البدايه | L1: تاريخ النهايه | M1: عدد الايام | N1: الرصيد | O1: مستهلك عارضه | P1: مستهلك سنويه | Q1: الباقى | R1: مرضى | S1: بدون اجر | X1: عارضه | Y1: سنوى | Z1: مرضى | AA1: بدون اجر
A2: =ROW()-1 -> 1 | B2: 1000 | C2: =IFERROR(VLOOKUP(B2,'Data '!$B:$H,2,0)," ") -> xxxx | D2: =IFERROR(VLOOKUP($B2,'Data '!$B:$H,3,0)," ") -> yyy | E2: =IFERROR(VLOOKUP($B2,'Data '!$B:$H,4,0)," ") -> zzz | F2: =IFERROR(VLOOKUP($B2,'Data '!$B:$H,5,0)," ") -> المبيعات | G2: =IFERROR(VLOOKUP($B2,'Data '!$B:$H,7,0)," ") -> 33329 | H2: =IFERROR(VLOOKUP($B2,'Data '!$B:$S,18,0)," ") -> 25163 | I2: =IFERROR(VLOOKUP(B2,'Data '!$B:$G,6,0)," ") -> 2 | J2: سنوى | K2: 44195 | L2: 44196 | M2: =IF(J2=$Z$1,((L2-K2)+1),IF(I2=1,NETWORKDAYS.INTL(K2,L2,7),IF(I2=2,NETWORKDAYS.INTL(K2,L2,16),"0"))) -> 2 | N2: =IFERROR(VLOOKUP(B2,'Data '!$B:$AN,39,0),"0") -> 30 | O2: =SUMIFS($M:$M,$J:$J,$X$1,$B:$B,$B2) -> 0 | P2: =SUMIFS($M:$M,$J:$J,$Y$1,$B:$B,$B2) -> 2 | Q2: =N2-SUM(O2:P2) -> 28 | R2: =SUMIFS($M:$M,$J:$J,$Z$1,$B:$B,$B2) -> 0 | S2: =SUMIFS($M:$M,$J:$J,$AA$1,$B:$B,$B2) -> 0
A3: =ROW()-1 -> 2 | B3: 1317 | C3: =IFERROR(VLOOKUP(B3,'Data '!$B:$H,3,0)," ") -> 0 | D3: =IFERROR(VLOOKUP($B3,'Data '!$B:$H,4,0)," ") -> 0 | E3: =IFERROR(VLOOKUP($B3,'Data '!$B:$H,4,0)," ") -> 0 | F3: =IFERROR(VLOOKUP($B3,'Data '!$B:$H,5,0)," ") -> الموارد البشرية | G3: =IFERROR(VLOOKUP($B3,'Data '!$B:$H,7,0)," ") -> 44017 | H3: =IFERROR(VLOOKUP($B3,'Data '!$B:$S,18,0)," ") -> 31113 | I3: =IFERROR(VLOOKUP(B3,'Data '!$B:$G,6,0)," ") -> 1 | J3: بدون اجر | K3: 44194 | L3: 44194 | M3: =IF(J3=$Z$1,((L3-K3)+1),IF(I3=1,NETWORKDAYS.INTL(K3,L3,7),IF(I3=2,NETWORKDAYS.INTL(K3,L3,16),"0"))) -> 1 | N3: =IFERROR(VLOOKUP(B3,'Data '!$B:$AN,39,0),"0") -> لا يستحق سنوى | O3: =SUMIFS($M:$M,$J:$J,$X$1,$B:$B,$B3) -> 0 | P3: =SUMIFS($M:$M,$J:$J,$Y$1,$B:$B,$B3) -> 0 | Q3: =N3-SUM(O3:P3) -> #VALUE! | R3: =SUMIFS($M:$M,$J:$J,$Z$1,$B:$B,$B3) -> 0 | S3: =SUMIFS($M:$M,$J:$J,$AA$1,$B:$B,$B3) -> 1
A4: =ROW()-1 -> 3 | B4: 1234 | C4: =IFERROR(VLOOKUP(B4,'Data '!$B:$H,3,0)," ") -> 0 | D4: =IFERROR(VLOOKUP($B4,'Data '!$B:$H,4,0)," ") -> 0 | E4: =IFERROR(VLOOKUP($B4,'Data '!$B:$H,4,0)," ") -> 0 | F4: =IFERROR(VLOOKUP($B4,'Data '!$B:$H,5,0)," ") -> الأنتاج | G4: =IFERROR(VLOOKUP($B4,'Data '!$B:$H,7,0)," ") -> 43631 | H4: =IFERROR(VLOOKUP($B4,'Data '!$B:$S,18,0)," ") -> 33474 | I4: =IFERROR(VLOOKUP(B4,'Data '!$B:$G,6,0)," ") -> 1 | J4: مرضى | K4: 44194 | L4: 44198 | M4: =IF(J4=$Z$1,((L4-K4)+1),IF(I4=1,NETWORKDAYS.INTL(K4,L4,7),IF(I4=2,NETWORKDAYS.INTL(K4,L4,16),"0"))) -> 5 | N4: =IFERROR(VLOOKUP(B4,'Data '!$B:$AN,39,0),"0") -> 21 | O4: =SUMIFS($M:$M,$J:$J,$X$1,$B:$B,$B4) -> 0 | P4: =SUMIFS($M:$M,$J:$J,$Y$1,$B:$B,$B4) -> 0 | Q4: =N4-SUM(O4:P4) -> 21 | R4: =SUMIFS($M:$M,$J:$J,$Z$1,$B:$B,$B4) -> 5 | S4: =SUMIFS($M:$M,$J:$J,$AA$1,$B:$B,$B4) -> 0
A5: =ROW()-1 -> 4 | B5: 1020 | C5: =IFERROR(VLOOKUP(B5,'Data '!$B:$H,3,0)," ") -> 0 | D5: =IFERROR(VLOOKUP($B5,'Data '!$B:$H,4,0)," ") -> 0 | E5: =IFERROR(VLOOKUP($B5,'Data '!$B:$H,4,0)," ") -> 0 | F5: =IFERROR(VLOOKUP($B5,'Data '!$B:$H,5,0)," ") -> الأنتاج | G5: =IFERROR(VLOOKUP($B5,'Data '!$B:$H,7,0)," ") -> 42830 | H5: =IFERROR(VLOOKUP($B5,'Data '!$B:$S,18,0)," ") -> 30882 | I5: =IFERROR(VLOOKUP(B5,'Data '!$B:$G,6,0)," ") -> 2 | J5: سنوى | K5: 44194 | L5: 44195 | M5: =IF(J5=$Z$1,((L5-K5)+1),IF(I5=1,NETWORKDAYS.INTL(K5,L5,7),IF(I5=2,NETWORKDAYS.INTL(K5,L5,16),"0"))) -> 2 | N5: =IFERROR(VLOOKUP(B5,'Data '!$B:$AN,39,0),"0") -> 21 | O5: =SUMIFS($M:$M,$J:$J,$X$1,$B:$B,$B5) -> 0 | P5: =SUMIFS($M:$M,$J:$J,$Y$1,$B:$B,$B5) -> 2 | Q5: =N5-SUM(O5:P5) -> 19 | R5: =SUMIFS($M:$M,$J:$J,$Z$1,$B:$B,$B5) -> 0 | S5: =SUMIFS($M:$M,$J:$J,$AA$1,$B:$B,$B5) -> 0
A6: =ROW()-1 -> 5 | B6: 1111 | C6: =IFERROR(VLOOKUP(B6,'Data '!$B:$H,3,0)," ") -> 0 | D6: =IFERROR(VLOOKUP($B6,'Data '!$B:$H,4,0)," ") -> 0 | E6: =IFERROR(VLOOKUP($B6,'Data '!$B:$H,4,0)," ") -> 0 | F6: =IFERROR(VLOOKUP($B6,'Data '!$B:$H,5,0)," ") -> التجهيز | G6: =IFERROR(VLOOKUP($B6,'Data '!$B:$H,7,0)," ") -> 41504 | H6: =IFERROR(VLOOKUP($B6,'Data '!$B:$S,18,0)," ") -> 29967 | I6: =IFERROR(VLOOKUP(B6,'Data '!$B:$G,6,0)," ") -> 1 | J6: عارضه | K6: 44195 | L6: 44196 | M6: =IF(J6=$Z$1,((L6-K6)+1),IF(I6=1,NETWORKDAYS.INTL(K6,L6,7),IF(I6=2,NETWORKDAYS.INTL(K6,L6,16),"0"))) -> 2 | N6: =IFERROR(VLOOKUP(B6,'Data '!$B:$AN,39,0),"0") -> 21 | O6: =SUMIFS($M:$M,$J:$J,$X$1,$B:$B,$B6) -> 2 | P6: =SUMIFS($M:$M,$J:$J,$Y$1,$B:$B,$B6) -> 0 | Q6: =N6-SUM(O6:P6) -> 19 | R6: =SUMIFS($M:$M,$J:$J,$Z$1,$B:$B,$B6) -> 0 | S6: =SUMIFS($M:$M,$J:$J,$AA$1,$B:$B,$B6) -> 0
A7: =ROW()-1 -> 6 | C7: =IFERROR(VLOOKUP(B7,'Data '!$B:$H,3,0)," ") | D7: =IFERROR(VLOOKUP($B7,'Data '!$B:$H,4,0)," ") | E7: =IFERROR(VLOOKUP($B7,'Data '!$B:$H,4,0)," ") | F7: =IFERROR(VLOOKUP($B7,'Data '!$B:$H,5,0)," ") | G7: =IFERROR(VLOOKUP($B7,'Data '!$B:$H,7,0)," ") | H7: =IFERROR(VLOOKUP($B7,'Data '!$B:$S,18,0)," ") | I7: =IFERROR(VLOOKUP(B7,'Data '!$B:$G,6,0)," ") | M7: =IF(J7=$Z$1,((L7-K7)+1),IF(I7=1,NETWORKDAYS.INTL(K7,L7,7),IF(I7=2,NETWORKDAYS.INTL(K7,L7,16),"0"))) -> 0 | N7: =IFERROR(VLOOKUP(B7,'Data '!$B:$AN,39,0),"0") -> 0 | O7: =SUMIFS($M:$M,$J:$J,$X$1,$B:$B,$B7) -> 0 | P7: =SUMIFS($M:$M,$J:$J,$Y$1,$B:$B,$B7) -> 0 | Q7: =N7-SUM(O7:P7) -> 0 | R7: =SUMIFS($M:$M,$J:$J,$Z$1,$B:$B,$B7) -> 0 | S7: =SUMIFS($M:$M,$J:$J,$AA$1,$B:$B,$B7) -> 0
A8: =ROW()-1 -> 7 | C8: =IFERROR(VLOOKUP(B8,'Data '!$B:$H,3,0)," ") | D8: =IFERROR(VLOOKUP($B8,'Data '!$B:$H,4,0)," ") | E8: =IFERROR(VLOOKUP($B8,'Data '!$B:$H,4,0)," ") | F8: =IFERROR(VLOOKUP($B8,'Data '!$B:$H,5,0)," ") | G8: =IFERROR(VLOOKUP($B8,'Data '!$B:$H,7,0)," ") | H8: =IFERROR(VLOOKUP($B8,'Data '!$B:$S,18,0)," ") | I8: =IFERROR(VLOOKUP(B8,'Data '!$B:$G,6,0)," ") | M8: =IF(J8=$Z$1,((L8-K8)+1),IF(I8=1,NETWORKDAYS.INTL(K8,L8,7),IF(I8=2,NETWORKDAYS.INTL(K8,L8,16),"0"))) -> 0 | N8: =IFERROR(VLOOKUP(B8,'Data '!$B:$AN,39,0),"0") -> 0 | O8: =SUMIFS($M:$M,$J:$J,$X$1,$B:$B,$B8) -> 0 | P8: =SUMIFS($M:$M,$J:$J,$Y$1,$B:$B,$B8) -> 0 | Q8: =N8-SUM(O8:P8) -> 0 | R8: =SUMIFS($M:$M,$J:$J,$Z$1,$B:$B,$B8) -> 0 | S8: =SUMIFS($M:$M,$J:$J,$AA$1,$B:$B,$B8) -> 0
A9: =ROW()-1 -> 8 | C9: =IFERROR(VLOOKUP(B9,'Data '!$B:$H,3,0)," ") | D9: =IFERROR(VLOOKUP($B9,'Data '!$B:$H,4,0)," ") | E9: =IFERROR(VLOOKUP($B9,'Data '!$B:$H,4,0)," ") | F9: =IFERROR(VLOOKUP($B9,'Data '!$B:$H,5,0)," ") | G9: =IFERROR(VLOOKUP($B9,'Data '!$B:$H,7,0)," ") | H9: =IFERROR(VLOOKUP($B9,'Data '!$B:$S,18,0)," ") | I9: =IFERROR(VLOOKUP(B9,'Data '!$B:$G,6,0)," ") | M9: =IF(J9=$Z$1,((L9-K9)+1),IF(I9=1,NETWORKDAYS.INTL(K9,L9,7),IF(I9=2,NETWORKDAYS.INTL(K9,L9,16),"0"))) -> 0 | N9: =IFERROR(VLOOKUP(B9,'Data '!$B:$AN,39,0),"0") -> 0 | O9: =SUMIFS($M:$M,$J:$J,$X$1,$B:$B,$B9) -> 0 | P9: =SUMIFS($M:$M,$J:$J,$Y$1,$B:$B,$B9) -> 0 | Q9: =N9-SUM(O9:P9) -> 0 | R9: =SUMIFS($M:$M,$J:$J,$Z$1,$B:$B,$B9) -> 0 | S9: =SUMIFS($M:$M,$J:$J,$AA$1,$B:$B,$B9) -> 0
A10: =ROW()-1 -> 9 | C10: =IFERROR(VLOOKUP(B10,'Data '!$B:$H,3,0)," ") | D10: =IFERROR(VLOOKUP($B10,'Data '!$B:$H,4,0)," ") | E10: =IFERROR(VLOOKUP($B10,'Data '!$B:$H,4,0)," ") | F10: =IFERROR(VLOOKUP($B10,'Data '!$B:$H,5,0)," ") | G10: =IFERROR(VLOOKUP($B10,'Data '!$B:$H,7,0)," ") | H10: =IFERROR(VLOOKUP($B10,'Data '!$B:$S,18,0)," ") | I10: =IFERROR(VLOOKUP(B10,'Data '!$B:$G,6,0)," ") | M10: =IF(J10=$Z$1,((L10-K10)+1),IF(I10=1,NETWORKDAYS.INTL(K10,L10,7),IF(I10=2,NETWORKDAYS.INTL(K10,L10,16),"0"))) -> 0 | N10: =IFERROR(VLOOKUP(B10,'Data '!$B:$AN,39,0),"0") -> 0 | O10: =SUMIFS($M:$M,$J:$J,$X$1,$B:$B,$B10) -> 0 | P10: =SUMIFS($M:$M,$J:$J,$Y$1,$B:$B,$B10) -> 0 | Q10: =N10-SUM(O10:P10) -> 0 | R10: =SUMIFS($M:$M,$J:$J,$Z$1,$B:$B,$B10) -> 0 | S10: =SUMIFS($M:$M,$J:$J,$AA$1,$B:$B,$B10) -> 0
A11: =ROW()-1 -> 10 | C11: =IFERROR(VLOOKUP(B11,'Data '!$B:$H,3,0)," ") | D11: =IFERROR(VLOOKUP($B11,'Data '!$B:$H,4,0)," ") | E11: =IFERROR(VLOOKUP($B11,'Data '!$B:$H,4,0)," ") | F11: =IFERROR(VLOOKUP($B11,'Data '!$B:$H,5,0)," ") | G11: =IFERROR(VLOOKUP($B11,'Data '!$B:$H,7,0)," ") | H11: =IFERROR(VLOOKUP($B11,'Data '!$B:$S,18,0)," ") | I11: =IFERROR(VLOOKUP(B11,'Data '!$B:$G,6,0)," ") | M11: =IF(J11=$Z$1,((L11-K11)+1),IF(I11=1,NETWORKDAYS.INTL(K11,L11,7),IF(I11=2,NETWORKDAYS.INTL(K11,L11,16),"0"))) -> 0 | N11: =IFERROR(VLOOKUP(B11,'Data '!$B:$AN,39,0),"0") -> 0 | O11: =SUMIFS($M:$M,$J:$J,$X$1,$B:$B,$B11) -> 0 | P11: =SUMIFS($M:$M,$J:$J,$Y$1,$B:$B,$B11) -> 0 | Q11: =N11-SUM(O11:P11) -> 0 | R11: =SUMIFS($M:$M,$J:$J,$Z$1,$B:$B,$B11) -> 0 | S11: =SUMIFS($M:$M,$J:$J,$AA$1,$B:$B,$B11) -> 0
A12: =ROW()-1 -> 11 | C12: =IFERROR(VLOOKUP(B12,'Data '!$B:$H,3,0)," ") | D12: =IFERROR(VLOOKUP($B12,'Data '!$B:$H,4,0)," ") | E12: =IFERROR(VLOOKUP($B12,'Data '!$B:$H,4,0)," ") | F12: =IFERROR(VLOOKUP($B12,'Data '!$B:$H,5,0)," ") | G12: =IFERROR(VLOOKUP($B12,'Data '!$B:$H,7,0)," ") | H12: =IFERROR(VLOOKUP($B12,'Data '!$B:$S,18,0)," ") | I12: =IFERROR(VLOOKUP(B12,'Data '!$B:$G,6,0)," ") | M12: =IF(J12=$Z$1,((L12-K12)+1),IF(I12=1,NETWORKDAYS.INTL(K12,L12,7),IF(I12=2,NETWORKDAYS.INTL(K12,L12,16),"0"))) -> 0 | N12: =IFERROR(VLOOKUP(B12,'Data '!$B:$AN,39,0),"0") -> 0 | O12: =SUMIFS($M:$M,$J:$J,$X$1,$B:$B,$B12) -> 0 | P12: =SUMIFS($M:$M,$J:$J,$Y$1,$B:$B,$B12) -> 0 | Q12: =N12-SUM(O12:P12) -> 0 | R12: =SUMIFS($M:$M,$J:$J,$Z$1,$B:$B,$B12) -> 0 | S12: =SUMIFS($M:$M,$J:$J,$AA$1,$B:$B,$B12) -> 0
A13: =ROW()-1 -> 12 | C13: =IFERROR(VLOOKUP(B13,'Data '!$B:$H,3,0)," ") | D13: =IFERROR(VLOOKUP($B13,'Data '!$B:$H,4,0)," ") | E13: =IFERROR(VLOOKUP($B13,'Data '!$B:$H,4,0)," ") | F13: =IFERROR(VLOOKUP($B13,'Data '!$B:$H,5,0)," ") | G13: =IFERROR(VLOOKUP($B13,'Data '!$B:$H,7,0)," ") | H13: =IFERROR(VLOOKUP($B13,'Data '!$B:$S,18,0)," ") | I13: =IFERROR(VLOOKUP(B13,'Data '!$B:$G,6,0)," ") | M13: =IF(J13=$Z$1,((L13-K13)+1),IF(I13=1,NETWORKDAYS.INTL(K13,L13,7),IF(I13=2,NETWORKDAYS.INTL(K13,L13,16),"0"))) -> 0 | N13: =IFERROR(VLOOKUP(B13,'Data '!$B:$AN,39,0),"0") -> 0 | O13: =SUMIFS($M:$M,$J:$J,$X$1,$B:$B,$B13) -> 0 | P13: =SUMIFS($M:$M,$J:$J,$Y$1,$B:$B,$B13) -> 0 | Q13: =N13-SUM(O13:P13) -> 0 | R13: =SUMIFS($M:$M,$J:$J,$Z$1,$B:$B,$B13) -> 0 | S13: =SUMIFS($M:$M,$J:$J,$AA$1,$B:$B,$B13) -> 0
A14: =ROW()-1 -> 13 | C14: =IFERROR(VLOOKUP(B14,'Data '!$B:$H,3,0)," ") | D14: =IFERROR(VLOOKUP($B14,'Data '!$B:$H,4,0)," ") | E14: =IFERROR(VLOOKUP($B14,'Data '!$B:$H,4,0)," ") | F14: =IFERROR(VLOOKUP($B14,'Data '!$B:$H,5,0)," ") | G14: =IFERROR(VLOOKUP($B14,'Data '!$B:$H,7,0)," ") | H14: =IFERROR(VLOOKUP($B14,'Data '!$B:$S,18,0)," ") | I14: =IFERROR(VLOOKUP(B14,'Data '!$B:$G,6,0)," ") | M14: =IF(J14=$Z$1,((L14-K14)+1),IF(I14=1,NETWORKDAYS.INTL(K14,L14,7),IF(I14=2,NETWORKDAYS.INTL(K14,L14,16),"0"))) -> 0 | N14: =IFERROR(VLOOKUP(B14,'Data '!$B:$AN,39,0),"0") -> 0 | O14: =SUMIFS($M:$M,$J:$J,$X$1,$B:$B,$B14) -> 0 | P14: =SUMIFS($M:$M,$J:$J,$Y$1,$B:$B,$B14) -> 0 | Q14: =N14-SUM(O14:P14) -> 0 | R14: =SUMIFS($M:$M,$J:$J,$Z$1,$B:$B,$B14) -> 0 | S14: =SUMIFS($M:$M,$J:$J,$AA$1,$B:$B,$B14) -> 0
A15: =ROW()-1 -> 14 | C15: =IFERROR(VLOOKUP(B15,'Data '!$B:$H,3,0)," ") | D15: =IFERROR(VLOOKUP($B15,'Data '!$B:$H,4,0)," ") | E15: =IFERROR(VLOOKUP($B15,'Data '!$B:$H,4,0)," ") | F15: =IFERROR(VLOOKUP($B15,'Data '!$B:$H,5,0)," ") | G15: =IFERROR(VLOOKUP($B15,'Data '!$B:$H,7,0)," ") | H15: =IFERROR(VLOOKUP($B15,'Data '!$B:$S,18,0)," ") | I15: =IFERROR(VLOOKUP(B15,'Data '!$B:$G,6,0)," ") | M15: =IF(J15=$Z$1,((L15-K15)+1),IF(I15=1,NETWORKDAYS.INTL(K15,L15,7),IF(I15=2,NETWORKDAYS.INTL(K15,L15,16),"0"))) -> 0 | N15: =IFERROR(VLOOKUP(B15,'Data '!$B:$AN,39,0),"0") -> 0 | O15: =SUMIFS($M:$M,$J:$J,$X$1,$B:$B,$B15) -> 0 | P15: =SUMIFS($M:$M,$J:$J,$Y$1,$B:$B,$B15) -> 0 | Q15: =N15-SUM(O15:P15) -> 0 | R15: =SUMIFS($M:$M,$J:$J,$Z$1,$B:$B,$B15) -> 0 | S15: =SUMIFS($M:$M,$J:$J,$AA$1,$B:$B,$B15) -> 0
A16: =ROW()-1 -> 15 | C16: =IFERROR(VLOOKUP(B16,'Data '!$B:$H,3,0)," ") | D16: =IFERROR(VLOOKUP($B16,'Data '!$B:$H,4,0)," ") | E16: =IFERROR(VLOOKUP($B16,'Data '!$B:$H,4,0)," ") | F16: =IFERROR(VLOOKUP($B16,'Data '!$B:$H,5,0)," ") | G16: =IFERROR(VLOOKUP($B16,'Data '!$B:$H,7,0)," ") | H16: =IFERROR(VLOOKUP($B16,'Data '!$B:$S,18,0)," ") | I16: =IFERROR(VLOOKUP(B16,'Data '!$B:$G,6,0)," ") | M16: =IF(J16=$Z$1,((L16-K16)+1),IF(I16=1,NETWORKDAYS.INTL(K16,L16,7),IF(I16=2,NETWORKDAYS.INTL(K16,L16,16),"0"))) -> 0 | N16: =IFERROR(VLOOKUP(B16,'Data '!$B:$AN,39,0),"0") -> 0 | O16: =SUMIFS($M:$M,$J:$J,$X$1,$B:$B,$B16) -> 0 | P16: =SUMIFS($M:$M,$J:$J,$Y$1,$B:$B,$B16) -> 0 | Q16: =N16-SUM(O16:P16) -> 0 | R16: =SUMIFS($M:$M,$J:$J,$Z$1,$B:$B,$B16) -> 0 | S16: =SUMIFS($M:$M,$J:$J,$AA$1,$B:$B,$B16) -> 0
A17: =ROW()-1 -> 16 | C17: =IFERROR(VLOOKUP(B17,'Data '!$B:$H,3,0)," ") | D17: =IFERROR(VLOOKUP($B17,'Data '!$B:$H,4,0)," ") | E17: =IFERROR(VLOOKUP($B17,'Data '!$B:$H,4,0)," ") | F17: =IFERROR(VLOOKUP($B17,'Data '!$B:$H,5,0)," ") | G17: =IFERROR(VLOOKUP($B17,'Data '!$B:$H,7,0)," ") | H17: =IFERROR(VLOOKUP($B17,'Data '!$B:$S,18,0)," ") | I17: =IFERROR(VLOOKUP(B17,'Data '!$B:$G,6,0)," ") | M17: =IF(J17=$Z$1,((L17-K17)+1),IF(I17=1,NETWORKDAYS.INTL(K17,L17,7),IF(I17=2,NETWORKDAYS.INTL(K17,L17,16),"0"))) -> 0 | N17: =IFERROR(VLOOKUP(B17,'Data '!$B:$AN,39,0),"0") -> 0 | O17: =SUMIFS($M:$M,$J:$J,$X$1,$B:$B,$B17) -> 0 | P17: =SUMIFS($M:$M,$J:$J,$Y$1,$B:$B,$B17) -> 0 | Q17: =N17-SUM(O17:P17) -> 0 | R17: =SUMIFS($M:$M,$J:$J,$Z$1,$B:$B,$B17) -> 0 | S17: =SUMIFS($M:$M,$J:$J,$AA$1,$B:$B,$B17) -> 0
A18: =ROW()-1 -> 17 | C18: =IFERROR(VLOOKUP(B18,'Data '!$B:$H,3,0)," ") | D18: =IFERROR(VLOOKUP($B18,'Data '!$B:$H,4,0)," ") | E18: =IFERROR(VLOOKUP($B18,'Data '!$B:$H,4,0)," ") | F18: =IFERROR(VLOOKUP($B18,'Data '!$B:$H,5,0)," ") | G18: =IFERROR(VLOOKUP($B18,'Data '!$B:$H,7,0)," ") | H18: =IFERROR(VLOOKUP($B18,'Data '!$B:$S,18,0)," ") | I18: =IFERROR(VLOOKUP(B18,'Data '!$B:$G,6,0)," ") | M18: =IF(J18=$Z$1,((L18-K18)+1),IF(I18=1,NETWORKDAYS.INTL(K18,L18,7),IF(I18=2,NETWORKDAYS.INTL(K18,L18,16),"0"))) -> 0 | N18: =IFERROR(VLOOKUP(B18,'Data '!$B:$AN,39,0),"0") -> 0 | O18: =SUMIFS($M:$M,$J:$J,$X$1,$B:$B,$B18) -> 0 | P18: =SUMIFS($M:$M,$J:$J,$Y$1,$B:$B,$B18) -> 0 | Q18: =N18-SUM(O18:P18) -> 0 | R18: =SUMIFS($M:$M,$J:$J,$Z$1,$B:$B,$B18) -> 0 | S18: =SUMIFS($M:$M,$J:$J,$AA$1,$B:$B,$B18) -> 0
... A840: =ROW()-1 -> 839 | C840: =IFERROR(VLOOKUP(B840,'Data '!$B:$H,3,0)," ") | D840: =IFERROR(VLOOKUP($B840,'Data '!$B:$H,4,0)," ") | E840: =IFERROR(VLOOKUP($B840,'Data '!$B:$H,4,0)," ") | F840: =IFERROR(VLOOKUP($B840,'Data '!$B:$H,5,0)," ") | G840: =IFERROR(VLOOKUP($B840,'Data '!$B:$H,7,0)," ") | H840: =IFERROR(VLOOKUP($B840,'Data '!$B:$S,18,0)," ") | I840: =IFERROR(VLOOKUP(B840,'Data '!$B:$G,6,0)," ") | M840: =IF(J840=$Z$1,((L840-K840)+1),IF(I840=1,NETWORKDAYS.INTL(K840,L840,7),IF(I840=2,NETWORKDAYS.INTL(K840,L840,16),"0"))) -> 0 | N840: =IFERROR(VLOOKUP(B840,'Data '!$B:$AN,39,0),"0") -> 0 | O840: =SUMIFS($M:$M,$J:$J,$X$1,$B:$B,$B840) -> 0 | P840: =SUMIFS($M:$M,$J:$J,$Y$1,$B:$B,$B840) -> 0 | Q840: =N840-SUM(O840:P840) -> 0 | R840: =SUMIFS($M:$M,$J:$J,$Z$1,$B:$B,$B840) -> 0 | S840: =SUMIFS($M:$M,$J:$J,$AA$1,$B:$B,$B840) -> 0
A841: =ROW()-1 -> 840 | C841: =IFERROR(VLOOKUP(B841,'Data '!$B:$H,3,0)," ") | D841: =IFERROR(VLOOKUP($B841,'Data '!$B:$H,4,0)," ") | E841: =IFERROR(VLOOKUP($B841,'Data '!$B:$H,4,0)," ") | F841: =IFERROR(VLOOKUP($B841,'Data '!$B:$H,5,0)," ") | G841: =IFERROR(VLOOKUP($B841,'Data '!$B:$H,7,0)," ") | H841: =IFERROR(VLOOKUP($B841,'Data '!$B:$S,18,0)," ") | I841: =IFERROR(VLOOKUP(B841,'Data '!$B:$G,6,0)," ") | M841: =IF(J841=$Z$1,((L841-K841)+1),IF(I841=1,NETWORKDAYS.INTL(K841,L841,7),IF(I841=2,NETWORKDAYS.INTL(K841,L841,16),"0"))) -> 0 | N841: =IFERROR(VLOOKUP(B841,'Data '!$B:$AN,39,0),"0") -> 0 | P841: =SUMIFS($M:$M,$J:$J,$Y$1,$B:$B,$B841) -> 0 | Q841: =N841-SUM(O841:P841) -> 0 | R841: =SUMIFS($M:$M,$J:$J,$Z$1,$B:$B,$B841) -> 0 | S841: =SUMIFS($M:$M,$J:$J,$AA$1,$B:$B,$B841) -> 0
A842: =ROW()-1 -> 841 | C842: =IFERROR(VLOOKUP(B842,'Data '!$B:$H,3,0)," ") | D842: =IFERROR(VLOOKUP($B842,'Data '!$B:$H,4,0)," ") | E842: =IFERROR(VLOOKUP($B842,'Data '!$B:$H,4,0)," ") | F842: =IFERROR(VLOOKUP($B842,'Data '!$B:$H,5,0)," ") | G842: =IFERROR(VLOOKUP($B842,'Data '!$B:$H,7,0)," ") | H842: =IFERROR(VLOOKUP($B842,'Data '!$B:$S,18,0)," ") | I842: =IFERROR(VLOOKUP(B842,'Data '!$B:$G,6,0)," ") | M842: =IF(J842=$Z$1,((L842-K842)+1),IF(I842=1,NETWORKDAYS.INTL(K842,L842,7),IF(I842=2,NETWORKDAYS.INTL(K842,L842,16),"0"))) -> 0 | N842: =IFERROR(VLOOKUP(B842,'Data '!$B:$AN,39,0),"0") -> 0 | P842: =SUMIFS($M:$M,$J:$J,$Y$1,$B:$B,$B842) -> 0 | Q842: =N842-SUM(O842:P842) -> 0 | R842: =SUMIFS($M:$M,$J:$J,$Z$1,$B:$B,$B842) -> 0 | S842: =SUMIFS($M:$M,$J:$J,$AA$1,$B:$B,$B842) -> 0
A843: =ROW()-1 -> 842 | C843: =IFERROR(VLOOKUP(B843,'Data '!$B:$H,3,0)," ") | D843: =IFERROR(VLOOKUP($B843,'Data '!$B:$H,4,0)," ") | E843: =IFERROR(VLOOKUP($B843,'Data '!$B:$H,4,0)," ") | F843: =IFERROR(VLOOKUP($B843,'Data '!$B:$H,5,0)," ") | G843: =IFERROR(VLOOKUP($B843,'Data '!$B:$H,7,0)," ") | H843: =IFERROR(VLOOKUP($B843,'Data '!$B:$S,18,0)," ") | I843: =IFERROR(VLOOKUP(B843,'Data '!$B:$G,6,0)," ") | M843: =IF(J843=$Z$1,((L843-K843)+1),IF(I843=1,NETWORKDAYS.INTL(K843,L843,7),IF(I843=2,NETWORKDAYS.INTL(K843,L843,16),"0"))) -> 0 | N843: =IFERROR(VLOOKUP(B843,'Data '!$B:$AN,39,0),"0") -> 0 | P843: =SUMIFS($M:$M,$J:$J,$Y$1,$B:$B,$B843) -> 0 | Q843: =N843-SUM(O843:P843) -> 0 | R843: =SUMIFS($M:$M,$J:$J,$Z$1,$B:$B,$B843) -> 0 | S843: =SUMIFS($M:$M,$J:$J,$AA$1,$B:$B,$B843) -> 0
A844: =ROW()-1 -> 843 | C844: =IFERROR(VLOOKUP(B844,'Data '!$B:$H,3,0)," ") | D844: =IFERROR(VLOOKUP($B844,'Data '!$B:$H,4,0)," ") | E844: =IFERROR(VLOOKUP($B844,'Data '!$B:$H,4,0)," ") | F844: =IFERROR(VLOOKUP($B844,'Data '!$B:$H,5,0)," ") | G844: =IFERROR(VLOOKUP($B844,'Data '!$B:$H,7,0)," ") | H844: =IFERROR(VLOOKUP($B844,'Data '!$B:$S,18,0)," ") | I844: =IFERROR(VLOOKUP(B844,'Data '!$B:$G,6,0)," ") | M844: =IF(J844=$Z$1,((L844-K844)+1),IF(I844=1,NETWORKDAYS.INTL(K844,L844,7),IF(I844=2,NETWORKDAYS.INTL(K844,L844,16),"0"))) -> 0 | N844: =IFERROR(VLOOKUP(B844,'Data '!$B:$AN,39,0),"0") -> 0 | P844: =SUMIFS($M:$M,$J:$J,$Y$1,$B:$B,$B844) -> 0 | Q844: =N844-SUM(O844:P844) -> 0 | R844: =SUMIFS($M:$M,$J:$J,$Z$1,$B:$B,$B844) -> 0 | S844: =SUMIFS($M:$M,$J:$J,$AA$1,$B:$B,$B844) -> 0
A845: =ROW()-1 -> 844 | C845: =IFERROR(VLOOKUP(B845,'Data '!$B:$H,3,0)," ") | D845: =IFERROR(VLOOKUP($B845,'Data '!$B:$H,4,0)," ") | E845: =IFERROR(VLOOKUP($B845,'Data '!$B:$H,4,0)," ") | F845: =IFERROR(VLOOKUP($B845,'Data '!$B:$H,5,0)," ") | G845: =IFERROR(VLOOKUP($B845,'Data '!$B:$H,7,0)," ") | H845: =IFERROR(VLOOKUP($B845,'Data '!$B:$S,18,0)," ") | I845: =IFERROR(VLOOKUP(B845,'Data '!$B:$G,6,0)," ") | M845: =IF(J845=$Z$1,((L845-K845)+1),IF(I845=1,NETWORKDAYS.INTL(K845,L845,7),IF(I845=2,NETWORKDAYS.INTL(K845,L845,16),"0"))) -> 0 | N845: =IFERROR(VLOOKUP(B845,'Data '!$B:$AN,39,0),"0") -> 0 | P845: =SUMIFS($M:$M,$J:$J,$Y$1,$B:$B,$B845) -> 0 | Q845: =N845-SUM(O845:P845) -> 0 | R845: =SUMIFS($M:$M,$J:$J,$Z$1,$B:$B,$B845) -> 0 | S845: =SUMIFS($M:$M,$J:$J,$AA$1,$B:$B,$B845) -> 0
A846: =ROW()-1 -> 845 | C846: =IFERROR(VLOOKUP(B846,'Data '!$B:$H,3,0)," ") | D846: =IFERROR(VLOOKUP($B846,'Data '!$B:$H,4,0)," ") | E846: =IFERROR(VLOOKUP($B846,'Data '!$B:$H,4,0)," ") | F846: =IFERROR(VLOOKUP($B846,'Data '!$B:$H,5,0)," ") | G846: =IFERROR(VLOOKUP($B846,'Data '!$B:$H,7,0)," ") | H846: =IFERROR(VLOOKUP($B846,'Data '!$B:$S,18,0)," ") | I846: =IFERROR(VLOOKUP(B846,'Data '!$B:$G,6,0)," ") | M846: =IF(J846=$Z$1,((L846-K846)+1),IF(I846=1,NETWORKDAYS.INTL(K846,L846,7),IF(I846=2,NETWORKDAYS.INTL(K846,L846,16),"0"))) -> 0 | N846: =IFERROR(VLOOKUP(B846,'Data '!$B:$AN,39,0),"0") -> 0 | P846: =SUMIFS($M:$M,$J:$J,$Y$1,$B:$B,$B846) -> 0 | Q846: =N846-SUM(O846:P846) -> 0 | R846: =SUMIFS($M:$M,$J:$J,$Z$1,$B:$B,$B846) -> 0 | S846: =SUMIFS($M:$M,$J:$J,$AA$1,$B:$B,$B846) -> 0
A847: =ROW()-1 -> 846 | C847: =IFERROR(VLOOKUP(B847,'Data '!$B:$H,3,0)," ") | D847: =IFERROR(VLOOKUP($B847,'Data '!$B:$H,4,0)," ") | E847: =IFERROR(VLOOKUP($B847,'Data '!$B:$H,4,0)," ") | F847: =IFERROR(VLOOKUP($B847,'Data '!$B:$H,5,0)," ") | G847: =IFERROR(VLOOKUP($B847,'Data '!$B:$H,7,0)," ") | H847: =IFERROR(VLOOKUP($B847,'Data '!$B:$S,18,0)," ") | I847: =IFERROR(VLOOKUP(B847,'Data '!$B:$G,6,0)," ") | M847: =IF(J847=$Z$1,((L847-K847)+1),IF(I847=1,NETWORKDAYS.INTL(K847,L847,7),IF(I847=2,NETWORKDAYS.INTL(K847,L847,16),"0"))) -> 0 | N847: =IFERROR(VLOOKUP(B847,'Data '!$B:$AN,39,0),"0") -> 0 | P847: =SUMIFS($M:$M,$J:$J,$Y$1,$B:$B,$B847) -> 0 | Q847: =N847-SUM(O847:P847) -> 0 | R847: =SUMIFS($M:$M,$J:$J,$Z$1,$B:$B,$B847) -> 0 | S847: =SUMIFS($M:$M,$J:$J,$AA$1,$B:$B,$B847) -> 0
A848: =ROW()-1 -> 847 | C848: =IFERROR(VLOOKUP(B848,'Data '!$B:$H,3,0)," ") | D848: =IFERROR(VLOOKUP($B848,'Data '!$B:$H,4,0)," ") | E848: =IFERROR(VLOOKUP($B848,'Data '!$B:$H,4,0)," ") | F848: =IFERROR(VLOOKUP($B848,'Data '!$B:$H,5,0)," ") | G848: =IFERROR(VLOOKUP($B848,'Data '!$B:$H,7,0)," ") | H848: =IFERROR(VLOOKUP($B848,'Data '!$B:$S,18,0)," ") | I848: =IFERROR(VLOOKUP(B848,'Data '!$B:$G,6,0)," ") | M848: =IF(J848=$Z$1,((L848-K848)+1),IF(I848=1,NETWORKDAYS.INTL(K848,L848,7),IF(I848=2,NETWORKDAYS.INTL(K848,L848,16),"0"))) -> 0 | N848: =IFERROR(VLOOKUP(B848,'Data '!$B:$AN,39,0),"0") -> 0 | P848: =SUMIFS($M:$M,$J:$J,$Y$1,$B:$B,$B848) -> 0 | Q848: =N848-SUM(O848:P848) -> 0 | R848: =SUMIFS($M:$M,$J:$J,$Z$1,$B:$B,$B848) -> 0 | S848: =SUMIFS($M:$M,$J:$J,$AA$1,$B:$B,$B848) -> 0
A849: =ROW()-1 -> 848 | C849: =IFERROR(VLOOKUP(B849,'Data '!$B:$H,3,0)," ") | D849: =IFERROR(VLOOKUP($B849,'Data '!$B:$H,4,0)," ") | E849: =IFERROR(VLOOKUP($B849,'Data '!$B:$H,4,0)," ") | F849: =IFERROR(VLOOKUP($B849,'Data '!$B:$H,5,0)," ") | G849: =IFERROR(VLOOKUP($B849,'Data '!$B:$H,7,0)," ") | H849: =IFERROR(VLOOKUP($B849,'Data '!$B:$S,18,0)," ") | I849: =IFERROR(VLOOKUP(B849,'Data '!$B:$G,6,0)," ") | M849: =IF(J849=$Z$1,((L849-K849)+1),IF(I849=1,NETWORKDAYS.INTL(K849,L849,7),IF(I849=2,NETWORKDAYS.INTL(K849,L849,16),"0"))) -> 0 | N849: =IFERROR(VLOOKUP(B849,'Data '!$B:$AN,39,0),"0") -> 0 | P849: =SUMIFS($M:$M,$J:$J,$Y$1,$B:$B,$B849) -> 0 | Q849: =N849-SUM(O849:P849) -> 0 | R849: =SUMIFS($M:$M,$J:$J,$Z$1,$B:$B,$B849) -> 0 | S849: =SUMIFS($M:$M,$J:$J,$AA$1,$B:$B,$B849) -> 0
A850: =ROW()-1 -> 849 | C850: =IFERROR(VLOOKUP(B850,'Data '!$B:$H,3,0)," ") | D850: =IFERROR(VLOOKUP($B850,'Data '!$B:$H,4,0)," ") | E850: =IFERROR(VLOOKUP($B850,'Data '!$B:$H,4,0)," ") | F850: =IFERROR(VLOOKUP($B850,'Data '!$B:$H,5,0)," ") | G850: =IFERROR(VLOOKUP($B850,'Data '!$B:$H,7,0)," ") | H850: =IFERROR(VLOOKUP($B850,'Data '!$B:$S,18,0)," ") | I850: =IFERROR(VLOOKUP(B850,'Data '!$B:$G,6,0)," ") | M850: =IF(J850=$Z$1,((L850-K850)+1),IF(I850=1,NETWORKDAYS.INTL(K850,L850,7),IF(I850=2,NETWORKDAYS.INTL(K850,L850,16),"0"))) -> 0 | N850: =IFERROR(VLOOKUP(B850,'Data '!$B:$AN,39,0),"0") -> 0 | P850: =SUMIFS($M:$M,$J:$J,$Y$1,$B:$B,$B850) -> 0 | Q850: =N850-SUM(O850:P850) -> 0 | R850: =SUMIFS($M:$M,$J:$J,$Z$1,$B:$B,$B850) -> 0 | S850: =SUMIFS($M:$M,$J:$J,$AA$1,$B:$B,$B850) -> 0
A851: =ROW()-1 -> 850 | C851: =IFERROR(VLOOKUP(B851,'Data '!$B:$H,3,0)," ") | D851: =IFERROR(VLOOKUP($B851,'Data '!$B:$H,4,0)," ") | E851: =IFERROR(VLOOKUP($B851,'Data '!$B:$H,4,0)," ") | F851: =IFERROR(VLOOKUP($B851,'Data '!$B:$H,5,0)," ") | G851: =IFERROR(VLOOKUP($B851,'Data '!$B:$H,7,0)," ") | H851: =IFERROR(VLOOKUP($B851,'Data '!$B:$S,18,0)," ") | I851: =IFERROR(VLOOKUP(B851,'Data '!$B:$G,6,0)," ") | M851: =IF(J851=$Z$1,((L851-K851)+1),IF(I851=1,NETWORKDAYS.INTL(K851,L851,7),IF(I851=2,NETWORKDAYS.INTL(K851,L851,16),"0"))) -> 0 | N851: =IFERROR(VLOOKUP(B851,'Data '!$B:$AN,39,0),"0") -> 0 | P851: =SUMIFS($M:$M,$J:$J,$Y$1,$B:$B,$B851) -> 0 | Q851: =N851-SUM(O851:P851) -> 0 | R851: =SUMIFS($M:$M,$J:$J,$Z$1,$B:$B,$B851) -> 0 | S851: =SUMIFS($M:$M,$J:$J,$AA$1,$B:$B,$B851) -> 0
A852: =ROW()-1 -> 851 | C852: =IFERROR(VLOOKUP(B852,'Data '!$B:$H,3,0)," ") | D852: =IFERROR(VLOOKUP($B852,'Data '!$B:$H,4,0)," ") | E852: =IFERROR(VLOOKUP($B852,'Data '!$B:$H,4,0)," ") | F852: =IFERROR(VLOOKUP($B852,'Data '!$B:$H,5,0)," ") | G852: =IFERROR(VLOOKUP($B852,'Data '!$B:$H,7,0)," ") | H852: =IFERROR(VLOOKUP($B852,'Data '!$B:$S,18,0)," ") | I852: =IFERROR(VLOOKUP(B852,'Data '!$B:$G,6,0)," ") | M852: =IF(J852=$Z$1,((L852-K852)+1),IF(I852=1,NETWORKDAYS.INTL(K852,L852,7),IF(I852=2,NETWORKDAYS.INTL(K852,L852,16),"0"))) -> 0 | N852: =IFERROR(VLOOKUP(B852,'Data '!$B:$AN,39,0),"0") -> 0 | P852: =SUMIFS($M:$M,$J:$J,$Y$1,$B:$B,$B852) -> 0 | Q852: =N852-SUM(O852:P852) -> 0 | R852: =SUMIFS($M:$M,$J:$J,$Z$1,$B:$B,$B852) -> 0 | S852: =SUMIFS($M:$M,$J:$J,$AA$1,$B:$B,$B852) -> 0
... A1225: =ROW()-1 -> 1224 | C1225: =IFERROR(VLOOKUP(B1225,'Data '!$B:$H,3,0)," ") | D1225: =IFERROR(VLOOKUP($B1225,'Data '!$B:$H,4,0)," ") | E1225: =IFERROR(VLOOKUP($B1225,'Data '!$B:$H,4,0)," ") | F1225: =IFERROR(VLOOKUP($B1225,'Data '!$B:$H,5,0)," ") | G1225: =IFERROR(VLOOKUP($B1225,'Data '!$B:$H,7,0)," ") | H1225: =IFERROR(VLOOKUP($B1225,'Data '!$B:$S,18,0)," ") | I1225: =IFERROR(VLOOKUP(B1225,'Data '!$B:$G,6,0)," ") | M1225: =IF(J1225=$Z$1,((L1225-K1225)+1),IF(I1225=1,NETWORKDAYS.INTL(K1225,L1225,7),IF(I1225=2,NETWORKDAYS.INTL(K1225,L1225,16),"0"))) -> 0 | N1225: =IFERROR(VLOOKUP(B1225,'Data '!$B:$AN,39,0),"0") -> 0 | P1225: =SUMIFS($M:$M,$J:$J,$Y$1,$B:$B,$B1225) -> 0 | Q1225: =N1225-SUM(O1225:P1225) -> 0 | R1225: =SUMIFS($M:$M,$J:$J,$Z$1,$B:$B,$B1225) -> 0 | S1225: =SUMIFS($M:$M,$J:$J,$AA$1,$B:$B,$B1225) -> 0
