Workbook

Sheet عمليات القبض
A1: رقم السند | B1: التاريخ | C1: العميل | D1: القيمة | E1: العملة | F1: تفقيط | G1: مقابل | H1: طريقة الدفع | I1: رقم الشيك | J1: اسم البنك | K1: تاريخ الشيك | L1: المحاسب | M1: المستلم
A2: 100 | B2: 44089 | C2: محمود حسين | D2: 500 | E2: دولار | F2: خمسمائة جنيه فقط لا غير | G2: دفعة مقدمة | H2: نقدا | I2: - | J2: - | K2: - | L2: حسن السيد | M2: المحصل
A3: 101 | B3: 44090 | C3: محمود حسين | D3: 501 | E3: دولار | F3: خمسمائة وواحد جنيه فقط لا غير | G3: دفعة مقدمة | H3: نقدا | I3: - | J3: - | K3: - | L3: حسن السيد | M3: المحصل
A4: 102 | B4: 44091 | C4: محمود حسين | D4: 502 | E4: دولار | F4: خمسمائة واثنين جنيه فقط لا غير | G4: دفعة مقدمة | H4: شيك | I4: 1020225 | J4: العربي | K4: 44484 | L4: حسن السيد | M4: المحصل
A5: 103
A6: 104
A7: 105
A8: 106
A9: 107
A10: 108
A11: 109
A12: 110
A13: 111
A14: 112
A15: 113
A16: 114
A17: 115

Sheet نموذج قبض
D1: اسم الشركة
G3: العملة: | H3: =VLOOKUP($D$4,'عمليات القبض'!$A$2:$M$167,5,0) -> دولار
A4: المبلغ: | B4: =VLOOKUP($D$4,'عمليات القبض'!$A$2:$M$167,4,0) -> 501 | D4: 101 | F4: No: | G4: طريقة الدفع: | H4: =VLOOKUP($D$4,'عمليات القبض'!$A$2:$M$167,8,0) -> نقدا
B6: استلمنا من السيد | D6: =VLOOKUP($D$4,'عمليات القبض'!$A$2:$M$167,3,0) -> محمود حسين | E6: =VLOOKUP($D$4,'عمليات القبض'!$A$2:$M$167,4,0) -> 501 | F6: =VLOOKUP($D$4,'عمليات القبض'!$A$2:$M$167,4,0) -> 501 | G6: =VLOOKUP($D$4,'عمليات القبض'!$A$2:$M$167,4,0) -> 501 | H6: =VLOOKUP($D$4,'عمليات القبض'!$A$2:$M$167,4,0) -> 501
B7: مبلغ وقدره | D7: =VLOOKUP($D$4,'عمليات القبض'!$A$2:$M$167,6,0) -> خمسمائة وواحد جنيه فقط لا غير | E7: =VLOOKUP($D$4,'عمليات القبض'!$A$2:$M$167,4,0) -> 501 | F7: =VLOOKUP($D$4,'عمليات القبض'!$A$2:$M$167,4,0) -> 501 | G7: =VLOOKUP($D$4,'عمليات القبض'!$A$2:$M$167,4,0) -> 501 | H7: =VLOOKUP($D$4,'عمليات القبض'!$A$2:$M$167,4,0) -> 501
B8: وذلك مقابل | D8: =VLOOKUP($D$4,'عمليات القبض'!$A$2:$M$167,7,0) -> دفعة مقدمة | E8: =VLOOKUP($D$4,'عمليات القبض'!$A$2:$M$167,4,0) -> 501 | F8: =VLOOKUP($D$4,'عمليات القبض'!$A$2:$M$167,4,0) -> 501 | G8: =VLOOKUP($D$4,'عمليات القبض'!$A$2:$M$167,4,0) -> 501 | H8: =VLOOKUP($D$4,'عمليات القبض'!$A$2:$M$167,4,0) -> 501
C10: رقم الشيك | D10: تاريخ الشيك | E10: اسم البنك
C11: =VLOOKUP($D$4,'عمليات القبض'!$A$2:$M$167,9,0) -> - | D11: =VLOOKUP($D$4,'عمليات القبض'!$A$2:$M$167,11,0) -> - | E11: =VLOOKUP($D$4,'عمليات القبض'!$A$2:$M$167,10,0) -> -
A13: التاريخ: | B13: =VLOOKUP($D$4,'عمليات القبض'!$A$2:$M$167,2,0) -> 44090 | C13: =VLOOKUP($D$4,'عمليات القبض'!$A$2:$M$167,4,0) -> 501
B14: المحاسب | G14: المستلم
B15: =VLOOKUP($D$4,'عمليات القبض'!$A$2:$M$167,12,0) -> حسن السيد | C15: =VLOOKUP($D$4,'عمليات القبض'!$A$2:$M$167,4,0) -> 501 | G15: =VLOOKUP($D$4,'عمليات القبض'!$A$2:$M$167,13,0) -> المحصل | H15: =VLOOKUP($D$4,'عمليات القبض'!$A$2:$M$167,4,0) -> 501
